Workbook
Name H: '1.4 No frame, end caps, 3 track'!$E$41
Name H: '1.5 No frame, pulls+caps, 3 trk'!$E$41
Name H: '1.6 No frame, Secura+handle, 3'!$E$41
Name L: '1.4 No frame, end caps, 3 track'!$E$39
Name L: '1.5 No frame, pulls+caps, 3 trk'!$E$39
Name L: '1.6 No frame, Secura+handle, 3'!$E$39
Name U: '1.4 No frame, end caps, 3 track'!$E$47
Name U: '1.5 No frame, pulls+caps, 3 trk'!$E$47
Name U: '1.6 No frame, Secura+handle, 3'!$E$47

Sheet Übersetzungstabelle
A1: Auswahl | B1: 2
B2: 1 | C2: 2 | D2: 3 | E2: 4
A3: =IF($B$1=1,B3,IF($B$1=2,C3, IF($B$1=3,D3, IF($B$1=4,E3,"Error!")))) -> Begriff Englisch | B3: Begriff Deutsch | C3: Begriff Englisch | D3: Begriff Französisch | E3: Begriff Spanisch
A4: =IF($B$1=1,B4,IF($B$1=2,C4, IF($B$1=3,D4, IF($B$1=4,E4,"Error!")))) -> 2 x end plate | B4: 2 x Endplatte | C4: 2 x end plate | D4: 2 x embout | E4: 2 x tapa final
A5: =IF($B$1=1,B5,IF($B$1=2,C5, IF($B$1=3,D5, IF($B$1=4,E5,"Error!")))) -> 4 x end plate | B5: 4 x Endplatte | C5: 4 x end plate | D5: 4 x embout | E5: 4 x tapa final
A6: =IF($B$1=1,B6,IF($B$1=2,C6, IF($B$1=3,D6, IF($B$1=4,E6,"Error!")))) -> 6 x end plate | B6: 6 x Endplatte | C6: 6 x end plate | D6: 6 x embout | E6: 6 x tapa final
A7: =IF($B$1=1,B7,IF($B$1=2,C7, IF($B$1=3,D7, IF($B$1=4,E7,"Error!")))) -> 2 x finger pull handle | B7: 2 x Griff | C7: 2 x finger pull handle | D7: 2 x poignée d'embout | E7: 2 x uñero
A8: =IF($B$1=1,B8,IF($B$1=2,C8, IF($B$1=3,D8, IF($B$1=4,E8,"Error!")))) -> 4 x finger pull handle | B8: 4 x Griff | C8: 4 x finger pull handle | D8: 4 x poignée d'embout | E8: 4 x uñero
A9: =IF($B$1=1,B9,IF($B$1=2,C9, IF($B$1=3,D9, IF($B$1=4,E9,"Error!")))) -> 1 x Secura security cylinder roller profile lock | B9: 1 x Secura-Schloss | C9: 1 x Secura security cylinder roller profile lock | D9: 1 x serrure de sécurité Secura | E9: 1 x cerradura de seguridad Secura
A10: =IF($B$1=1,B10,IF($B$1=2,C10, IF($B$1=3,D10, IF($B$1=4,E10,"Error!")))) -> 2 x Secura security cylinder roller profile lock | B10: 2 x Secura-Schloss | C10: 2 x Secura security cylinder roller profile lock | D10: 2 x serrure de sécurité Secura | E10: 2 x cerradura de seguridad Secura
A11: =IF($B$1=1,B11,IF($B$1=2,C11, IF($B$1=3,D11, IF($B$1=4,E11,"Error!")))) -> 1 x Secura lock adapter | B11: 1 x Secura-Gegenadapter | C11: 1 x Secura lock adapter | D11: 1 x adaptateur pour serrure de sécurité Secura | E11: 1 x adaptador de cerradero Secura
A12: =IF($B$1=1,B12,IF($B$1=2,C12, IF($B$1=3,D12, IF($B$1=4,E12,"Error!")))) -> 2 x Secura lock adapter | B12: 2 x Secura-Gegenadapter | C12: 2 x Secura lock adapter | D12: 2 x adaptateur pour serrure de sécurité Secura | E12: 2 x adaptador de cerradero Secura
A13: =IF($B$1=1,B13,IF($B$1=2,C13, IF($B$1=3,D13, IF($B$1=4,E13,"Error!")))) -> Supra: Profile and glass size calculation for twin-track installations without frame profile, with 2 end plates per sliding door | B13: Supra: Profil- und Glasmaßberechnung für zweibahnige Anlagen ohne Rahmenprofil mit je 2 Endplatten pro Schiebetür | C13: Supra: Profile and glass size calculation for twin-track installations without frame profile, with 2 end plates per sliding door | D13: Supra : Calcul des dimensions des profilés et des vantaux pour des installations à deux voies sans profilé d'encadrement, avec 2 embouts par porte coulissante | E13: Supra: Cálculador de los perfiles y dimensiones de hojas de vidrio para instalaciones de doble guía sin perfil de marco, con 2 tapas finales por puerta corredera
A14: =IF($B$1=1,B14,IF($B$1=2,C14, IF($B$1=3,D14, IF($B$1=4,E14,"Error!")))) -> Supra: Profile and glass size calculation for twin-track installations without frame profile, with 1 finger pull handle and 1 end plate per sliding door | B14: Supra: Profil- und Glasmaßberechnung für zweibahnige Anlagen ohne Rahmenprofil mit 1 Griff und 1 Endplatte pro Schiebetür | C14: Supra: Profile and glass size calculation for twin-track installations without frame profile, with 1 finger pull handle and 1 end plate per sliding door | D14: Supra : Calcul des dimensions des profilés et des vantaux pour des installations à deux voies sans profilé d'encadrement, avec 1 poignée d'embout et 1 embout par porte coulissante | E14: Supra: Cálculador de los perfiles y dimensiones de hojas de vidrio para instalaciones de doble guía sin perfil de marco, con 1 uñero y 1 tapa final por puerta corredera
... A93: =IF($B$1=1,B93,IF($B$1=2,C93, IF($B$1=3,D93, IF($B$1=4,E93,"Error!")))) -> Glass fittings with logic | B93: Glasbeschläge mit System | C93: Glass fittings with logic | D93: Ferrures pour verre innovatrices | E93: Herraje innovador para vidrio
B96: = veraltete Texte bzgl. e-Secura

Sheet Overview
B2: =Übersetzungstabelle!A25 -> Overview
B4: =Übersetzungstabelle!A26 -> Equipment | E4: =Übersetzungstabelle!A32 -> Without frame profile | F4: =Übersetzungstabelle!A33 -> Vertical frame only | G4: =Übersetzungstabelle!A34 -> All-round frame
A5: =Übersetzungstabelle!A92 -> twin-track installations | B5: =Übersetzungstabelle!$A$5 -> 4 x end plate | E5: =Übersetzungstabelle!A35 -> 1.1 Without frame profile, with 2 end plates per sliding door | F5: =Übersetzungstabelle!A41 -> 2.1 Vertical frame profile only, with 2 end plates per sliding door | G5: =Übersetzungstabelle!A44 -> 3.1 All-round frame profile, with 2 end plates per sliding door
B6: =Übersetzungstabelle!A7 -> 2 x finger pull handle | C6: =Übersetzungstabelle!A4 -> 2 x end plate | E6: =Übersetzungstabelle!A36 -> 1.2 Without frame profile, with 1 finger pull handle and 1 end plate per sliding door | F6: =Übersetzungstabelle!A42 -> 2.2 Vertical frame profile only, with 1 finger pull handle and 1 end plate per sliding door | G6: =Übersetzungstabelle!A45 -> 3.2 All-round frame profile, with 1 finger pull handle and 1 end plate per sliding door
B7: =Übersetzungstabelle!A9 -> 1 x Secura security cylinder roller profile lock | C7: =Übersetzungstabelle!A11 -> 1 x Secura lock adapter | D7: =Übersetzungstabelle!A7 -> 2 x finger pull handle | E7: =Übersetzungstabelle!A37 -> 1.3 Without frame profile, with 1 finger pull handle per sliding door and 1 central Secura security cylinder roller profile lock | F7: =Übersetzungstabelle!A43 -> 2.3 Vertical frame profile only, with 1 finger pull handle per sliding door and 1 central Secura security cylinder roller profile lock | G7: =Übersetzungstabelle!A46 -> 3.3 All-round frame profile, with 1 finger pull handle per sliding door and 1 central Secura security cylinder roller profile lock
A8: =Übersetzungstabelle!A91 -> three-track installations | B8: =Übersetzungstabelle!A6 -> 6 x end plate | E8: =Übersetzungstabelle!A38 -> 1.4 Without frame profile, with 2 end plates per sliding door, three-tracks
B9: =Übersetzungstabelle!A8 -> 4 x finger pull handle | C9: =Übersetzungstabelle!A4 -> 2 x end plate | E9: =Übersetzungstabelle!A39 -> 1.5 Without frame profile, with 2 end plates and 4 finger pull handles, three-tracks
B10: =Übersetzungstabelle!A10 -> 2 x Secura security cylinder roller profile lock | C10: =Übersetzungstabelle!A12 -> 2 x Secura lock adapter | D10: =Übersetzungstabelle!A7 -> 2 x finger pull handle | E10: =Übersetzungstabelle!A40 -> 1.6 Without frame profile, with 1 finger pull handle on the right and left, 2 central Secura security cylinder roller profile locks, three-tracks

Sheet 1.1 No frame, end caps only
B1: =Übersetzungstabelle!A13 -> Supra: Profile and glass size calculation for twin-track installations without frame profile, with 2 end plates per sliding door
B24: Systemmaße
C26: HSA | D26: Höhenabzugsmaß Schiebeflügel | E26: 69 | F26: (mm)
C28: UWs | D28: Überlapp Wand schließseitig | E28: 35 | F28: (mm)
C30: UWo | D30: Überlapp Wand öffnungsseitig | E30: 35 | F30: (mm)
C32: SMs | D32: Spaltmaß schließseitig | E32: 3 | F32: (mm)
C34: SMo | D34: Spaltmaß öffnungsseitig | E34: 3 | F34: (mm)
B37: =Übersetzungstabelle!A48 -> User input | H37: =Übersetzungstabelle!A55 -> Automatic calculation of glass dimensions and profile length | P37: =Übersetzungstabelle!A76 -> Legend
P38: =Übersetzungstabelle!A77 -> L = clear width H = system height (installation height) X = length of roller profile U = overlap of sliding sashes b = glass width of sliding sashes Z = glass height of sliding sashes
C39: L | D39: =Übersetzungstabelle!A50 -> Clear width | E39: 2000 | F39: (mm) | I39: b | J39: =Übersetzungstabelle!A56 -> Glass width of sliding sashes | L39: =E39/2+E47/2 -> 1016 | M39: (mm)
D40: =IF(E39>5000,Übersetzungstabelle!A90,"")
C41: H | D41: =Übersetzungstabelle!A49 -> System height | E41: 2000 | F41: (mm) | I41: Z | J41: =Übersetzungstabelle!A57 -> Glass height of sliding sashes | L41: =E41-32 -> 1968 | M41: (mm)
D43: =Übersetzungstabelle!A51 -> Glass thickness of sliding sashes | E43: 6 | F43: (mm) | I43: X | J43: =Übersetzungstabelle!A58 -> Length of roller profile | L43: =L39-5 -> 1011 | M43: (mm)
C45: =Übersetzungstabelle!A52 -> Information: | D45: =IF(AND(E43<>4,E43<>5,E43<>6,E43<>8),Übersetzungstabelle!A89,"") | J45: =Übersetzungstabelle!A61 -> Number of roller assemblies required per sliding sash | L45: =IF(K52<=25,2,IF(K52<=50,4,Übersetzungstabelle!A62)) -> 4
C47: U | D47: =Übersetzungstabelle!A53 -> Overlap between sliding sashes | E47: 32 | F47: (mm)
B50: =Übersetzungstabelle!A54 -> Formulas | H50: =Übersetzungstabelle!A63 -> Check of sash weight | P50: =Übersetzungstabelle!A79 -> Notes
C52: Z = H - 32 | I52: =Übersetzungstabelle!A67 -> Weight of sliding sashes (≤ 50 kg!) | K52: =L41/1000*L39/1000*(ROUNDDOWN(E43,0))*2.5 -> 29.99232 | L52: (kg) | M52: =IF(K52<=50,Übersetzungstabelle!A65,Übersetzungstabelle!A66) -> OK | P52: =Übersetzungstabelle!A80 -> The weight of the sliding sashes must not exceed 50 kg. Select the height-width ratio of the sliding sashes in such a way as to prevent the sliding sashes from tilting when pushed.
C54: X = b - 5 | I54: =IF(K52>50,Übersetzungstabelle!A69,"")
C56: b = L/2 + 16
A65: =Übersetzungstabelle!A84 -> Willach does not assume any liability for damage of any kind that could arise as a result of using this profile and glass dimensions calculator. (November 17, 2025)

Sheet 1.2 No frame, handle+end cap
B1: =Übersetzungstabelle!A14 -> Supra: Profile and glass size calculation for twin-track installations without frame profile, with 1 finger pull handle and 1 end plate per sliding door
B24: Systemmaße
C26: HSA | D26: Höhenabzugsmaß Schiebeflügel | E26: 69 | F26: (mm)
C28: UWs | D28: Überlapp Wand schließseitig | E28: 35 | F28: (mm)
C30: UWo | D30: Überlapp Wand öffnungsseitig | E30: 35 | F30: (mm)
C32: SMs | D32: Spaltmaß schließseitig | E32: 3 | F32: (mm)
C34: SMo | D34: Spaltmaß öffnungsseitig | E34: 3 | F34: (mm)
B37: =Übersetzungstabelle!A48 -> User input | H37: =Übersetzungstabelle!A55 -> Automatic calculation of glass dimensions and profile length | P37: =Übersetzungstabelle!A76 -> Legend
P38: =Übersetzungstabelle!A77 -> L = clear width H = system height (installation height) X = length of roller profile U = overlap of sliding sashes b = glass width of sliding sashes Z = glass height of sliding sashes
C39: L | D39: =Übersetzungstabelle!A50 -> Clear width | E39: 2000 | F39: (mm) | I39: b | J39: =Übersetzungstabelle!A56 -> Glass width of sliding sashes | L39: =E39/2+E47/2 -> 1016 | M39: (mm)
D40: =IF(E39>5000,Übersetzungstabelle!A90,"")
C41: H | D41: =Übersetzungstabelle!A49 -> System height | E41: 2000 | F41: (mm) | I41: Z | J41: =Übersetzungstabelle!A57 -> Glass height of sliding sashes | L41: =E41-32 -> 1968 | M41: (mm)
D43: =Übersetzungstabelle!A51 -> Glass thickness of sliding sashes | E43: 6 | F43: (mm) | I43: X | J43: =Übersetzungstabelle!A58 -> Length of roller profile | L43: =L39-35 -> 981 | M43: (mm)
C45: =Übersetzungstabelle!A52 -> Information: | D45: =IF(AND(E43<>4,E43<>5,E43<>6,E43<>8),Übersetzungstabelle!A89,"") | J45: =Übersetzungstabelle!A61 -> Number of roller assemblies required per sliding sash | L45: =IF(K52<=25,2,IF(K52<=50,4,Übersetzungstabelle!A62)) -> 4
C47: U | D47: =Übersetzungstabelle!A53 -> Overlap between sliding sashes | E47: 32 | F47: (mm)
B50: =Übersetzungstabelle!A54 -> Formulas | H50: =Übersetzungstabelle!A63 -> Check of sash weight | P50: =Übersetzungstabelle!A79 -> Notes
C52: Z = H - 32 | I52: =Übersetzungstabelle!A67 -> Weight of sliding sashes (≤ 50 kg!) | K52: =L41/1000*L39/1000*(ROUNDDOWN(E43,0))*2.5 -> 29.99232 | L52: (kg) | M52: =IF(K52<=50,Übersetzungstabelle!A65,Übersetzungstabelle!A66) -> OK | P52: =Übersetzungstabelle!A80 -> The weight of the sliding sashes must not exceed 50 kg. Select the height-width ratio of the sliding sashes in such a way as to prevent the sliding sashes from tilting when pushed.
C54: X = b - 35 | I54: =IF(K52>50,Übersetzungstabelle!A69,"")
C56: b = L/2 + 16
A65: =Übersetzungstabelle!A84 -> Willach does not assume any liability for damage of any kind that could arise as a result of using this profile and glass dimensions calculator. (November 17, 2025)

Sheet 1.4 No frame, end caps, 3 track
B1: =Übersetzungstabelle!A16 -> Supra: Profile and glass size calculation for three-track installations without frame profile, with 2 end plates per sliding door
B24: Systemmaße
C26: HSA | D26: Höhenabzugsmaß Schiebeflügel | E26: 69 | F26: (mm)
C28: UWs | D28: Überlapp Wand schließseitig | E28: 35 | F28: (mm)
C30: UWo | D30: Überlapp Wand öffnungsseitig | E30: 35 | F30: (mm)
C32: SMs | D32: Spaltmaß schließseitig | E32: 3 | F32: (mm)
C34: SMo | D34: Spaltmaß öffnungsseitig | E34: 3 | F34: (mm)
B37: =Übersetzungstabelle!A48 -> User input | H37: =Übersetzungstabelle!A55 -> Automatic calculation of glass dimensions and profile length | P37: =Übersetzungstabelle!A76 -> Legend
P38: =Übersetzungstabelle!A77 -> L = clear width H = system height (installation height) X = length of roller profile U = overlap of sliding sashes b = glass width of sliding sashes Z = glass height of sliding sashes
C39: L | D39: =Übersetzungstabelle!A50 -> Clear width | E39: 2000 | F39: (mm) | I39: b | J39: =Übersetzungstabelle!A56 -> Glass width of sliding sashes | L39: =(L+64)/3 -> 688 | M39: (mm)
D40: =IF(E39>5000,Übersetzungstabelle!A90,"")
C41: H | D41: =Übersetzungstabelle!A49 -> System height | E41: 2000 | F41: (mm) | I41: Z | J41: =Übersetzungstabelle!A57 -> Glass height of sliding sashes | L41: =H-32 -> 1968 | M41: (mm)
D43: =Übersetzungstabelle!A51 -> Glass thickness of sliding sashes | E43: 6 | F43: (mm) | I43: X | J43: =Übersetzungstabelle!A58 -> Length of roller profile | L43: =L39-35 -> 653 | M43: (mm)
C45: =Übersetzungstabelle!A52 -> Information: | D45: =IF(AND(E43<>4,E43<>5,E43<>6,E43<>8),Übersetzungstabelle!A89,"") | J45: =Übersetzungstabelle!A61 -> Number of roller assemblies required per sliding sash | L45: =IF(K52<=25,2,IF(K52<=50,4,Übersetzungstabelle!A62)) -> 2
C47: U | D47: =Übersetzungstabelle!A53 -> Overlap between sliding sashes | E47: 32 | F47: (mm)
B50: =Übersetzungstabelle!A54 -> Formulas | H50: =Übersetzungstabelle!A63 -> Check of sash weight | P50: =Übersetzungstabelle!A79 -> Notes
C52: Z = H - 32 | I52: =Übersetzungstabelle!A67 -> Weight of sliding sashes (≤ 50 kg!) | K52: =L41/1000*L39/1000*(ROUNDDOWN(E43,0))*2.5 -> 20.30976 | L52: (kg) | M52: =IF(K52<=50,Übersetzungstabelle!A65,Übersetzungstabelle!A66) -> OK | P52: =Übersetzungstabelle!A80 -> The weight of the sliding sashes must not exceed 50 kg. Select the height-width ratio of the sliding sashes in such a way as to prevent the sliding sashes from tilting when pushed.
C54: X = b - 35 | I54: =IF(E39>5000,Übersetzungstabelle!A69,"")
C56: b = (L + 64) / 3
A65: =Übersetzungstabelle!A84 -> Willach does not assume any liability for damage of any kind that could arise as a result of using this profile and glass dimensions calculator. (November 17, 2025)

Sheet 1.3 No frame, Secura+handle
B1: =Übersetzungstabelle!A15 -> Supra: Profile and glass size calculation for twin-track installations without frame profile, with 1 finger pull handle per sliding door and 1 central Secura security cylinder roller profile lock
B24: Systemmaße
C26: HSA | D26: Höhenabzugsmaß Schiebeflügel | E26: 69 | F26: (mm)
C28: UWs | D28: Überlapp Wand schließseitig | E28: 35 | F28: (mm)
C30: UWo | D30: Überlapp Wand öffnungsseitig | E30: 35 | F30: (mm)
C32: SMs | D32: Spaltmaß schließseitig | E32: 3 | F32: (mm)
C34: SMo | D34: Spaltmaß öffnungsseitig | E34: 3 | F34: (mm)
B37: =Übersetzungstabelle!A48 -> User input | H37: =Übersetzungstabelle!A55 -> Automatic calculation of glass dimensions and profile length | P37: =Übersetzungstabelle!A76 -> Legend
P38: =Übersetzungstabelle!A77 -> L = clear width H = system height (installation height) X = length of roller profile U = overlap of sliding sashes b = glass width of sliding sashes Z = glass height of sliding sashes
C39: L | D39: =Übersetzungstabelle!A50 -> Clear width | E39: 2000 | F39: (mm) | I39: b | J39: =Übersetzungstabelle!A56 -> Glass width of sliding sashes | L39: =E39/2+E47/2 -> 1016 | M39: (mm)
D40: =IF(E39>5000,Übersetzungstabelle!A90,"")
C41: H | D41: =Übersetzungstabelle!A49 -> System height | E41: 2000 | F41: (mm) | I41: Z | J41: =Übersetzungstabelle!A57 -> Glass height of sliding sashes | L41: =E41-32 -> 1968 | M41: (mm)
D43: =Übersetzungstabelle!A51 -> Glass thickness of sliding sashes | E43: 6 | F43: (mm) | I43: X | J43: =Übersetzungstabelle!A58 -> Length of roller profile | L43: =L39-65 -> 951 | M43: (mm)
C45: =Übersetzungstabelle!A52 -> Information: | D45: =IF(AND(E43<>4,E43<>5,E43<>6,E43<>8),Übersetzungstabelle!A89,"") | J45: =Übersetzungstabelle!A61 -> Number of roller assemblies required per sliding sash | L45: =IF(K52<=25,2,IF(K52<=50,4,Übersetzungstabelle!A62)) -> 4
C47: U | D47: =Übersetzungstabelle!A53 -> Overlap between sliding sashes | E47: 32 | F47: (mm)
B50: =Übersetzungstabelle!A54 -> Formulas | H50: =Übersetzungstabelle!A63 -> Check of sash weight | P50: =Übersetzungstabelle!A79 -> Notes
C52: Z = H - 32 | I52: =Übersetzungstabelle!A67 -> Weight of sliding sashes (≤ 50 kg!) | K52: =L41/1000*L39/1000*(ROUNDDOWN(E43,0))*2.5 -> 29.99232 | L52: (kg) | M52: =IF(K52<=50,Übersetzungstabelle!A65,Übersetzungstabelle!A66) -> OK | P52: =Übersetzungstabelle!A80 -> The weight of the sliding sashes must not exceed 50 kg. Select the height-width ratio of the sliding sashes in such a way as to prevent the sliding sashes from tilting when pushed.
C54: X = b - 65 | I54: =IF(K52>50,Übersetzungstabelle!A69,"")
C56: b = L/2 + 16
A65: =Übersetzungstabelle!A84 -> Willach does not assume any liability for damage of any kind that could arise as a result of using this profile and glass dimensions calculator. (November 17, 2025)

Sheet 1.5 No frame, pulls+caps, 3 trk
B1: =Übersetzungstabelle!A17 -> Supra: Profile and glass size calculation for three-track installations without frame profile, with 4 finger pull handles and 2 end plates
B24: Systemmaße
C26: HSA | D26: Höhenabzugsmaß Schiebeflügel | E26: 69 | F26: (mm)
C28: UWs | D28: Überlapp Wand schließseitig | E28: 35 | F28: (mm)
C30: UWo | D30: Überlapp Wand öffnungsseitig | E30: 35 | F30: (mm)
C32: SMs | D32: Spaltmaß schließseitig | E32: 3 | F32: (mm)
C34: SMo | D34: Spaltmaß öffnungsseitig | E34: 3 | F34: (mm)
B37: =Übersetzungstabelle!A48 -> User input | H37: =Übersetzungstabelle!A55 -> Automatic calculation of glass dimensions and profile length | P37: =Übersetzungstabelle!A76 -> Legend
P38: =Übersetzungstabelle!A77 -> L = clear width H = system height (installation height) X = length of roller profile U = overlap of sliding sashes b = glass width of sliding sashes Z = glass height of sliding sashes
C39: L | D39: =Übersetzungstabelle!A50 -> Clear width | E39: 2000 | F39: (mm) | I39: b | J39: =Übersetzungstabelle!A56 -> Glass width of sliding sashes | L39: =(L+64)/3 -> 688 | M39: (mm)
D40: =IF(E39>5000,Übersetzungstabelle!A90,"")
C41: H | D41: =Übersetzungstabelle!A49 -> System height | E41: 2000 | F41: (mm) | I41: Z | J41: =Übersetzungstabelle!A57 -> Glass height of sliding sashes | L41: =H-32 -> 1968 | M41: (mm)
D43: =Übersetzungstabelle!A51 -> Glass thickness of sliding sashes | E43: 6 | F43: (mm) | I43: X1 | J43: =Übersetzungstabelle!A58 -> Length of roller profile | L43: =L39-35 -> 653 | M43: (mm)
C45: =Übersetzungstabelle!A52 -> Information: | D45: =IF(AND(E43<>4,E43<>5,E43<>6,E43<>8),Übersetzungstabelle!A89,"") | I45: X2 | J45: =Übersetzungstabelle!A58 -> Length of roller profile | L45: =L39-65 -> 623
C47: U | D47: =Übersetzungstabelle!A53 -> Overlap between sliding sashes | E47: 32 | F47: (mm) | J47: =Übersetzungstabelle!A61 -> Number of roller assemblies required per sliding sash | L47: =IF(K54<=25,2,IF(K54<=50,4,Übersetzungstabelle!A64)) -> 2
B50: =Übersetzungstabelle!A54 -> Formulas | H50: =Übersetzungstabelle!A63 -> Check of sash weight | P50: =Übersetzungstabelle!A79 -> Notes
C52: Z = H - 32 | I52: =Übersetzungstabelle!A67 -> Weight of sliding sashes (≤ 50 kg!) | K52: =L41/1000*L39/1000*(ROUNDDOWN(E43,0))*2.5 -> 20.30976 | L52: (kg) | M52: =IF(K52<=50,Übersetzungstabelle!A65,Übersetzungstabelle!A66) -> OK | P52: =Übersetzungstabelle!A80 -> The weight of the sliding sashes must not exceed 50 kg. Select the height-width ratio of the sliding sashes in such a way as to prevent the sliding sashes from tilting when pushed.
C54: X1 = b - 35 | I54: =IF(E39>5000,Übersetzungstabelle!A69,"")
C55: X2 = b - 65
C57: b = (L+64) / 3
A66: =Übersetzungstabelle!A84 -> Willach does not assume any liability for damage of any kind that could arise as a result of using this profile and glass dimensions calculator. (November 17, 2025)

Sheet 1.6 No frame, Secura+handle, 3
B1: =Übersetzungstabelle!A18 -> Supra: Profile and glass size calculation for three-track installations without frame profile with 1 finger pull handle per sliding door on the left/right and 2 central Secura security cylinder roller profile locks
B24: Systemmaße
C26: HSA | D26: Höhenabzugsmaß Schiebeflügel | E26: 69 | F26: (mm)
C28: UWs | D28: Überlapp Wand schließseitig | E28: 35 | F28: (mm)
C30: UWo | D30: Überlapp Wand öffnungsseitig | E30: 35 | F30: (mm)
C32: SMs | D32: Spaltmaß schließseitig | E32: 3 | F32: (mm)
C34: SMo | D34: Spaltmaß öffnungsseitig | E34: 3 | F34: (mm)
B37: =Übersetzungstabelle!A48 -> User input | H37: =Übersetzungstabelle!A55 -> Automatic calculation of glass dimensions and profile length | P37: =Übersetzungstabelle!A76 -> Legend
P38: =Übersetzungstabelle!A77 -> L = clear width H = system height (installation height) X = length of roller profile U = overlap of sliding sashes b = glass width of sliding sashes Z = glass height of sliding sashes
C39: L | D39: =Übersetzungstabelle!A50 -> Clear width | E39: 2000 | F39: (mm) | I39: b | J39: =Übersetzungstabelle!A56 -> Glass width of sliding sashes | L39: =(L+64)/3 -> 688 | M39: (mm)
D40: =IF(E39>5000,Übersetzungstabelle!A90,"")
C41: H | D41: =Übersetzungstabelle!A49 -> System height | E41: 2000 | F41: (mm) | I41: Z | J41: =Übersetzungstabelle!A57 -> Glass height of sliding sashes | L41: =H-32 -> 1968 | M41: (mm)
D43: =Übersetzungstabelle!A51 -> Glass thickness of sliding sashes | E43: 6 | F43: (mm) | I43: X | J43: =Übersetzungstabelle!A58 -> Length of roller profile | L43: =L39-65 -> 623 | M43: (mm)
C45: =Übersetzungstabelle!A52 -> Information: | D45: =IF(AND(E43<>4,E43<>5,E43<>6,E43<>8),Übersetzungstabelle!A89,"") | J45: =Übersetzungstabelle!A61 -> Number of roller assemblies required per sliding sash | L45: =IF(K52<=25,2,IF(K52<=50,4,Übersetzungstabelle!A62)) -> 2
C47: U | D47: =Übersetzungstabelle!A53 -> Overlap between sliding sashes | E47: 32 | F47: (mm)
B50: =Übersetzungstabelle!A54 -> Formulas | H50: =Übersetzungstabelle!A63 -> Check of sash weight | P50: =Übersetzungstabelle!A79 -> Notes
C52: Z = H - 32 | I52: =Übersetzungstabelle!A67 -> Weight of sliding sashes (≤ 50 kg!) | K52: =L41/1000*L39/1000*(ROUNDDOWN(E43,0))*2.5 -> 20.30976 | L52: (kg) | M52: =IF(K52<=50,Übersetzungstabelle!A65,Übersetzungstabelle!A66) -> OK | P52: =Übersetzungstabelle!A80 -> The weight of the sliding sashes must not exceed 50 kg. Select the height-width ratio of the sliding sashes in such a way as to prevent the sliding sashes from tilting when pushed.
C54: X = b - 65 | I54: =IF(K52>50,Übersetzungstabelle!A69,"")
C56: b = (L+64) / 3
P63: =Übersetzungstabelle!A81 -> Please use the security cylinder roller profile lock for multi-track installation with recess in the middle sashes 606621,0002,410.
A65: =Übersetzungstabelle!A84 -> Willach does not assume any liability for damage of any kind that could arise as a result of using this profile and glass dimensions calculator. (November 17, 2025)

Sheet 2.1 Vert frame, end caps only
B1: =Übersetzungstabelle!A19 -> Supra: Profile and glass size calculation for twin-track installations with vertical frame profile, with 2 end plates per sliding door
B24: Systemmaße
C26: HSA | D26: Höhenabzugsmaß Schiebeflügel | E26: 69 | F26: (mm)
C28: UWs | D28: Überlapp Wand schließseitig | E28: 35 | F28: (mm)
C30: UWo | D30: Überlapp Wand öffnungsseitig | E30: 35 | F30: (mm)
C32: SMs | D32: Spaltmaß schließseitig | E32: 3 | F32: (mm)
C34: SMo | D34: Spaltmaß öffnungsseitig | E34: 3 | F34: (mm)
B37: =Übersetzungstabelle!A48 -> User input | H37: =Übersetzungstabelle!A55 -> Automatic calculation of glass dimensions and profile length | P37: =Übersetzungstabelle!A76 -> Legend
P38: =Übersetzungstabelle!A77 -> L = clear width H = system height (installation height) X = length of roller profile U = overlap of sliding sashes b = glass width of sliding sashes Z = glass height of sliding sashes
C39: L | D39: =Übersetzungstabelle!A50 -> Clear width | E39: 2000 | F39: (mm) | I39: b | J39: =Übersetzungstabelle!A56 -> Glass width of sliding sashes | L39: =E39/2+E47/2-11 -> 1005 | M39: (mm)
D40: =IF(E39>5000,Übersetzungstabelle!A90,"")
C41: H | D41: =Übersetzungstabelle!A49 -> System height | E41: 2000 | F41: (mm) | I41: Z | J41: =Übersetzungstabelle!A57 -> Glass height of sliding sashes | L41: =E41-32 -> 1968 | M41: (mm)
D43: =Übersetzungstabelle!A51 -> Glass thickness of sliding sashes | E43: 6 | F43: (mm) | I43: X | J43: =Übersetzungstabelle!A58 -> Length of roller profile | L43: =L39-5 -> 1000 | M43: (mm)
C45: =Übersetzungstabelle!A52 -> Information: | D45: =IF(AND(E43<>4,E43<>5,E43<>6,E43<>8),Übersetzungstabelle!A89,"") | J45: =Übersetzungstabelle!A61 -> Number of roller assemblies required per sliding sash | L45: =IF(K52<=25,2,IF(K52<=50,4,Übersetzungstabelle!A62)) -> 4
C47: U | D47: =Übersetzungstabelle!A53 -> Overlap between sliding sashes | E47: 32 | F47: (mm)
B50: =Übersetzungstabelle!A54 -> Formulas | H50: =Übersetzungstabelle!A63 -> Check of sash weight | P50: =Übersetzungstabelle!A79 -> Notes
C52: Z = H - 32 | I52: =Übersetzungstabelle!A67 -> Weight of sliding sashes (≤ 50 kg!) | K52: =L41/1000*L39/1000*(ROUNDDOWN(E43,0))*2.5 -> 29.6676 | L52: (kg) | M52: =IF(K52<=50,Übersetzungstabelle!A65,Übersetzungstabelle!A66) -> OK | P52: =Übersetzungstabelle!A80 -> The weight of the sliding sashes must not exceed 50 kg. Select the height-width ratio of the sliding sashes in such a way as to prevent the sliding sashes from tilting when pushed.
C54: X = b - 5 | I54: =IF(K52>50,Übersetzungstabelle!A69,"")
C56: b = L/2 + 5
A65: =Übersetzungstabelle!A84 -> Willach does not assume any liability for damage of any kind that could arise as a result of using this profile and glass dimensions calculator. (November 17, 2025)

Sheet 2.2 Vert frame, handle+end cap
B1: =Übersetzungstabelle!A20 -> Supra: Profile and glass size calculation for twin-track installations with vertical frame profile, with 1 finger pull handle and 1 end plate per sliding door
B24: Systemmaße
C26: HSA | D26: Höhenabzugsmaß Schiebeflügel | E26: 69 | F26: (mm)
C28: UWs | D28: Überlapp Wand schließseitig | E28: 35 | F28: (mm)
C30: UWo | D30: Überlapp Wand öffnungsseitig | E30: 35 | F30: (mm)
C32: SMs | D32: Spaltmaß schließseitig | E32: 3 | F32: (mm)
C34: SMo | D34: Spaltmaß öffnungsseitig | E34: 3 | F34: (mm)
B37: =Übersetzungstabelle!A48 -> User input | H37: =Übersetzungstabelle!A55 -> Automatic calculation of glass dimensions and profile length | P37: =Übersetzungstabelle!A76 -> Legend
P38: =Übersetzungstabelle!A77 -> L = clear width H = system height (installation height) X = length of roller profile U = overlap of sliding sashes b = glass width of sliding sashes Z = glass height of sliding sashes
C39: L | D39: =Übersetzungstabelle!A50 -> Clear width | E39: 2000 | F39: (mm) | I39: b | J39: =Übersetzungstabelle!A56 -> Glass width of sliding sashes | L39: =E39/2+E47/2-11 -> 1005 | M39: (mm)
D40: =IF(E39>5000,Übersetzungstabelle!A90,"")
C41: H | D41: =Übersetzungstabelle!A49 -> System height | E41: 2000 | F41: (mm) | I41: Z | J41: =Übersetzungstabelle!A57 -> Glass height of sliding sashes | L41: =E41-32 -> 1968 | M41: (mm)
D43: =Übersetzungstabelle!A51 -> Glass thickness of sliding sashes | E43: 6 | F43: (mm) | I43: X | J43: =Übersetzungstabelle!A58 -> Length of roller profile | L43: =L39-35 -> 970 | M43: (mm)
C45: =Übersetzungstabelle!A52 -> Information: | D45: =IF(AND(E43<>4,E43<>5,E43<>6,E43<>8),Übersetzungstabelle!A89,"") | J45: =Übersetzungstabelle!A61 -> Number of roller assemblies required per sliding sash | L45: =IF(K52<=25,2,IF(K52<=50,4,Übersetzungstabelle!A62)) -> 4
C47: U | D47: =Übersetzungstabelle!A53 -> Overlap between sliding sashes | E47: 32 | F47: (mm)
B50: =Übersetzungstabelle!A54 -> Formulas | H50: =Übersetzungstabelle!A63 -> Check of sash weight | P50: =Übersetzungstabelle!A79 -> Notes
C52: Z = H - 32 | I52: =Übersetzungstabelle!A67 -> Weight of sliding sashes (≤ 50 kg!) | K52: =L41/1000*L39/1000*(ROUNDDOWN(E43,0))*2.5 -> 29.6676 | L52: (kg) | M52: =IF(K52<=50,Übersetzungstabelle!A65,Übersetzungstabelle!A66) -> OK | P52: =Übersetzungstabelle!A80 -> The weight of the sliding sashes must not exceed 50 kg. Select the height-width ratio of the sliding sashes in such a way as to prevent the sliding sashes from tilting when pushed.
C54: X = b - 35 | I54: =IF(K52>50,Übersetzungstabelle!A69,"")
C56: b = L/2 + 5
A65: =Übersetzungstabelle!A84 -> Willach does not assume any liability for damage of any kind that could arise as a result of using this profile and glass dimensions calculator. (November 17, 2025)

Sheet 2.3 Vert frame, Secura+pull
B1: =Übersetzungstabelle!A21 -> Supra: Profile and glass size calculation for twin-track installations with vertical frame profile, with 1 finger pull handle per sliding door and 1 central Secura security cylinder roller profile lock
B24: Systemmaße
C26: HSA | D26: Höhenabzugsmaß Schiebeflügel | E26: 69 | F26: (mm)
C28: UWs | D28: Überlapp Wand schließseitig | E28: 35 | F28: (mm)
C30: UWo | D30: Überlapp Wand öffnungsseitig | E30: 35 | F30: (mm)
C32: SMs | D32: Spaltmaß schließseitig | E32: 3 | F32: (mm)
C34: SMo | D34: Spaltmaß öffnungsseitig | E34: 3 | F34: (mm)
B37: =Übersetzungstabelle!A48 -> User input | H37: =Übersetzungstabelle!A55 -> Automatic calculation of glass dimensions and profile length | P37: =Übersetzungstabelle!A76 -> Legend
P38: =Übersetzungstabelle!A77 -> L = clear width H = system height (installation height) X = length of roller profile U = overlap of sliding sashes b = glass width of sliding sashes Z = glass height of sliding sashes
C39: L | D39: =Übersetzungstabelle!A50 -> Clear width | E39: 2000 | F39: (mm) | I39: b | J39: =Übersetzungstabelle!A56 -> Glass width of sliding sashes | L39: =E39/2+E47/2-11 -> 1005 | M39: (mm)
D40: =IF(E39>5000,Übersetzungstabelle!A90,"")
C41: H | D41: =Übersetzungstabelle!A49 -> System height | E41: 2000 | F41: (mm) | I41: Z | J41: =Übersetzungstabelle!A57 -> Glass height of sliding sashes | L41: =E41-32 -> 1968 | M41: (mm)
D43: =Übersetzungstabelle!A51 -> Glass thickness of sliding sashes | E43: 6 | F43: (mm) | I43: X | J43: =Übersetzungstabelle!A58 -> Length of roller profile | L43: =L39-65 -> 940 | M43: (mm)
C45: =Übersetzungstabelle!A52 -> Information: | D45: =IF(AND(E43<>4,E43<>5,E43<>6,E43<>8),Übersetzungstabelle!A89,"") | J45: =Übersetzungstabelle!A61 -> Number of roller assemblies required per sliding sash | L45: =IF(K52<=25,2,IF(K52<=50,4,Übersetzungstabelle!A62)) -> 4
C47: U | D47: =Übersetzungstabelle!A53 -> Overlap between sliding sashes | E47: 32 | F47: (mm)
B50: =Übersetzungstabelle!A54 -> Formulas | H50: =Übersetzungstabelle!A63 -> Check of sash weight | P50: =Übersetzungstabelle!A79 -> Notes
C52: Z = H - 32 | I52: =Übersetzungstabelle!A67 -> Weight of sliding sashes (≤ 50 kg!) | K52: =L41/1000*L39/1000*(ROUNDDOWN(E43,0))*2.5 -> 29.6676 | L52: (kg) | M52: =IF(K52<=50,Übersetzungstabelle!A65,Übersetzungstabelle!A66) -> OK | P52: =Übersetzungstabelle!A80 -> The weight of the sliding sashes must not exceed 50 kg. Select the height-width ratio of the sliding sashes in such a way as to prevent the sliding sashes from tilting when pushed.
C54: X = b - 65 | I54: =IF(K52>50,Übersetzungstabelle!A69,"")
C56: b = L/2 + 5
A65: =Übersetzungstabelle!A84 -> Willach does not assume any liability for damage of any kind that could arise as a result of using this profile and glass dimensions calculator. (November 17, 2025)

Sheet 3.1 Full frame, end caps only
B1: =Übersetzungstabelle!A22 -> Supra: Profile and glass size calculation for twin- track installations with all-round frame profile, with 2 end plates per sliding door
B24: Systemmaße
C26: HSA | D26: Höhenabzugsmaß Schiebeflügel | E26: 69 | F26: (mm)
C28: UWs | D28: Überlapp Wand schließseitig | E28: 35 | F28: (mm)
C30: UWo | D30: Überlapp Wand öffnungsseitig | E30: 35 | F30: (mm)
C32: SMs | D32: Spaltmaß schließseitig | E32: 3 | F32: (mm)
C34: SMo | D34: Spaltmaß öffnungsseitig | E34: 3 | F34: (mm)
B37: =Übersetzungstabelle!A48 -> User input | H37: =Übersetzungstabelle!A55 -> Automatic calculation of glass dimensions and profile length | P37: =Übersetzungstabelle!A76 -> Legend
P38: =Übersetzungstabelle!A77 -> L = clear width H = system height (installation height) X = length of roller profile U = overlap of sliding sashes b = glass width of sliding sashes Z = glass height of sliding sashes
C39: L | D39: =Übersetzungstabelle!A50 -> Clear width | E39: 2000 | F39: (mm) | I39: b | J39: =Übersetzungstabelle!A56 -> Glass width of sliding sashes | L39: =E39/2+E47/2-11 -> 1005 | M39: (mm)
D40: =IF(E39>5000,Übersetzungstabelle!A90,"")
C41: H | D41: =Übersetzungstabelle!A49 -> System height | E41: 2000 | F41: (mm) | I41: Z | J41: =Übersetzungstabelle!A57 -> Glass height of sliding sashes | L41: =E41-41 -> 1959 | M41: (mm)
D43: =Übersetzungstabelle!A51 -> Glass thickness of sliding sashes | E43: 6 | F43: (mm) | I43: X | J43: =Übersetzungstabelle!A58 -> Length of roller profile | L43: =L39-5 -> 1000 | M43: (mm)
C45: =Übersetzungstabelle!A52 -> Information: | D45: =IF(AND(E43<>4,E43<>5,E43<>6,E43<>8),Übersetzungstabelle!A89,"") | J45: =Übersetzungstabelle!A61 -> Number of roller assemblies required per sliding sash | L45: =IF(K52<=25,2,IF(K52<=50,4,Übersetzungstabelle!A62)) -> 4
C47: U | D47: =Übersetzungstabelle!A53 -> Overlap between sliding sashes | E47: 32 | F47: (mm)
B50: =Übersetzungstabelle!A54 -> Formulas | H50: =Übersetzungstabelle!A63 -> Check of sash weight | P50: =Übersetzungstabelle!A79 -> Notes
C52: Z = H - 41 | I52: =Übersetzungstabelle!A67 -> Weight of sliding sashes (≤ 50 kg!) | K52: =L41/1000*L39/1000*(ROUNDDOWN(E43,0))*2.5 -> 29.531925 | L52: (kg) | M52: =IF(K52<=50,Übersetzungstabelle!A65,Übersetzungstabelle!A66) -> OK | P52: =Übersetzungstabelle!A80 -> The weight of the sliding sashes must not exceed 50 kg. Select the height-width ratio of the sliding sashes in such a way as to prevent the sliding sashes from tilting when pushed.
C54: X = b - 5 | I54: =IF(K52>50,Übersetzungstabelle!A69,"")
C56: b = L/2 + 5
A65: =Übersetzungstabelle!A84 -> Willach does not assume any liability for damage of any kind that could arise as a result of using this profile and glass dimensions calculator. (November 17, 2025)

Sheet 3.2 Full frame, handle+end cap
B1: =Übersetzungstabelle!A23 -> Supra: Profile and glass size calculation for twin-track installations with all-round frame profile, with 1 finger pull handle and 1 end plate per sliding door
B24: Systemmaße
C26: HSA | D26: Höhenabzugsmaß Schiebeflügel | E26: 69 | F26: (mm)
C28: UWs | D28: Überlapp Wand schließseitig | E28: 35 | F28: (mm)
C30: UWo | D30: Überlapp Wand öffnungsseitig | E30: 35 | F30: (mm)
C32: SMs | D32: Spaltmaß schließseitig | E32: 3 | F32: (mm)
C34: SMo | D34: Spaltmaß öffnungsseitig | E34: 3 | F34: (mm)
B37: =Übersetzungstabelle!A48 -> User input | H37: =Übersetzungstabelle!A55 -> Automatic calculation of glass dimensions and profile length | P37: =Übersetzungstabelle!A76 -> Legend
P38: =Übersetzungstabelle!A77 -> L = clear width H = system height (installation height) X = length of roller profile U = overlap of sliding sashes b = glass width of sliding sashes Z = glass height of sliding sashes
C39: L | D39: =Übersetzungstabelle!A50 -> Clear width | E39: 2000 | F39: (mm) | I39: b | J39: =Übersetzungstabelle!A56 -> Glass width of sliding sashes | L39: =E39/2+E47/2-11 -> 1005 | M39: (mm)
D40: =IF(E39>5000,Übersetzungstabelle!A90,"")
C41: H | D41: =Übersetzungstabelle!A49 -> System height | E41: 2000 | F41: (mm) | I41: Z | J41: =Übersetzungstabelle!A57 -> Glass height of sliding sashes | L41: =E41-41 -> 1959 | M41: (mm)
D43: =Übersetzungstabelle!A51 -> Glass thickness of sliding sashes | E43: 6 | F43: (mm) | I43: X | J43: =Übersetzungstabelle!A58 -> Length of roller profile | L43: =L39-35 -> 970 | M43: (mm)
C45: =Übersetzungstabelle!A52 -> Information: | D45: =IF(AND(E43<>4,E43<>5,E43<>6,E43<>8),Übersetzungstabelle!A89,"") | J45: =Übersetzungstabelle!A61 -> Number of roller assemblies required per sliding sash | L45: =IF(K52<=25,2,IF(K52<=50,4,Übersetzungstabelle!A62)) -> 4
C47: U | D47: =Übersetzungstabelle!A53 -> Overlap between sliding sashes | E47: 32 | F47: (mm)
B50: =Übersetzungstabelle!A54 -> Formulas | H50: =Übersetzungstabelle!A63 -> Check of sash weight | P50: =Übersetzungstabelle!A79 -> Notes
C52: Z = H - 41 | I52: =Übersetzungstabelle!A67 -> Weight of sliding sashes (≤ 50 kg!) | K52: =L41/1000*L39/1000*(ROUNDDOWN(E43,0))*2.5 -> 29.531925 | L52: (kg) | M52: =IF(K52<=50,Übersetzungstabelle!A65,Übersetzungstabelle!A66) -> OK | P52: =Übersetzungstabelle!A80 -> The weight of the sliding sashes must not exceed 50 kg. Select the height-width ratio of the sliding sashes in such a way as to prevent the sliding sashes from tilting when pushed.
C54: X = b - 35 | I54: =IF(K52>50,Übersetzungstabelle!A69,"")
C56: b = L/2 + 5
A65: =Übersetzungstabelle!A84 -> Willach does not assume any liability for damage of any kind that could arise as a result of using this profile and glass dimensions calculator. (November 17, 2025)

Sheet 3.3 Full frame, Secura+handle
B1: =Übersetzungstabelle!A24 -> Supra: Profile and glass size calculation for twin-track installations with all-round frame profile, with 1 finger pull handle per sliding door and 1 central Secura security cylinder roller profile lock
B24: Systemmaße
C26: HSA | D26: Höhenabzugsmaß Schiebeflügel | E26: 69 | F26: (mm)
C28: UWs | D28: Überlapp Wand schließseitig | E28: 35 | F28: (mm)
C30: UWo | D30: Überlapp Wand öffnungsseitig | E30: 35 | F30: (mm)
C32: SMs | D32: Spaltmaß schließseitig | E32: 3 | F32: (mm)
C34: SMo | D34: Spaltmaß öffnungsseitig | E34: 3 | F34: (mm)
B37: =Übersetzungstabelle!A48 -> User input | H37: =Übersetzungstabelle!A55 -> Automatic calculation of glass dimensions and profile length | P37: =Übersetzungstabelle!A76 -> Legend
P38: =Übersetzungstabelle!A77 -> L = clear width H = system height (installation height) X = length of roller profile U = overlap of sliding sashes b = glass width of sliding sashes Z = glass height of sliding sashes
C39: L | D39: =Übersetzungstabelle!A50 -> Clear width | E39: 2000 | F39: (mm) | I39: b | J39: =Übersetzungstabelle!A56 -> Glass width of sliding sashes | L39: =E39/2+E47/2-11 -> 1005 | M39: (mm)
D40: =IF(E39>5000,Übersetzungstabelle!A90,"")
C41: H | D41: =Übersetzungstabelle!A49 -> System height | E41: 2000 | F41: (mm) | I41: Z | J41: =Übersetzungstabelle!A57 -> Glass height of sliding sashes | L41: =E41-41 -> 1959 | M41: (mm)
D43: =Übersetzungstabelle!A51 -> Glass thickness of sliding sashes | E43: 6 | F43: (mm) | I43: X | J43: =Übersetzungstabelle!A58 -> Length of roller profile | L43: =L39-65 -> 940 | M43: (mm)
C45: Info: | D45: =IF(AND(E43<>4,E43<>5,E43<>6,E43<>8),Übersetzungstabelle!A89,"") | J45: =Übersetzungstabelle!A61 -> Number of roller assemblies required per sliding sash | L45: =IF(K52<=25,2,IF(K52<=50,4,Übersetzungstabelle!A62)) -> 4
C47: U | D47: =Übersetzungstabelle!A53 -> Overlap between sliding sashes | E47: 32 | F47: (mm)
B50: =Übersetzungstabelle!A54 -> Formulas | H50: =Übersetzungstabelle!A63 -> Check of sash weight | P50: =Übersetzungstabelle!A79 -> Notes
C52: Z = H - 41 | I52: =Übersetzungstabelle!A67 -> Weight of sliding sashes (≤ 50 kg!) | K52: =L41/1000*L39/1000*(ROUNDDOWN(E43,0))*2.5 -> 29.531925 | L52: (kg) | M52: =IF(K52<=50,Übersetzungstabelle!A65,Übersetzungstabelle!A66) -> OK | P52: =Übersetzungstabelle!A80 -> The weight of the sliding sashes must not exceed 50 kg. Select the height-width ratio of the sliding sashes in such a way as to prevent the sliding sashes from tilting when pushed.
C54: X = b - 65 | I54: =IF(K52>50,Übersetzungstabelle!A69,"")
C56: b = L/2 + 5
A65: =Übersetzungstabelle!A84 -> Willach does not assume any liability for damage of any kind that could arise as a result of using this profile and glass dimensions calculator. (November 17, 2025)

Sheet Tabelle1
